BEGIN:VCALENDAR
VERSION:2.0
PRODID:-//hacksw/handcal//NONSGML v1.0//EN
BEGIN:VEVENT
DTSTART:20260326T110000
DTEND:20260326T193000
LOCATION:BU ATRIUM l Université de Montpellier Paul-Valéry \nRoute de Mende \n34199 Montpellier
ORGANIZER;CN=Marika Desbordes:MAILTO:marika.desbordes@umpv.fr
SUMMARY:Human'Innov : la journée de l'innovation par la Recherche, la Formation et l'Entrepreneuriat
DESCRIPTION:Le 26 mars 2026, la DIVEP de l'Université de Montpellier Paul-Valéry vous invite à une journée dédiée aux approches innovantes en Lettres, Langues, Arts, Sciences Humaines et Sociales menées au sein...
URL:https://www.paulvapro.fr/event/human-innov-la-journee-de-l-innovation-par-la-recherche-la-formation-et-l-entrepreneuriat/2026/03/26/195
BEGIN:VALARM
TRIGGER:-P0DT1H0M0S
ACTION:DISPLAY
END:VALARM
END:VEVENT
END:VCALENDAR