BEGIN:VCALENDAR
VERSION:2.0
PRODID:-//hacksw/handcal//NONSGML v1.0//EN
BEGIN:VEVENT
DTSTART:20260409T080000
DTEND:20260409T200000
LOCATION:Bâtiment ATRIUM - Université de Montpellier Paul-Valéry
ORGANIZER;CN=Marika Desbordes:MAILTO:marika.desbordes@umpv.fr
SUMMARY::mortar_board:Alternance Dating 2026 : Trouve ton entreprise !:rocket:
DESCRIPTION:📅 Jeudi 9 avril 2026 🚀 4ème édition de l’Alternance Dating à l'Université de Montpellier Paul-Valéry !...
URL:https://www.paulvapro.fr/event/-mortar-board-alternance-dating-2026-trouve-ton-entreprise-rocket/2026/04/09/193
BEGIN:VALARM
TRIGGER:-P0DT1H0M0S
ACTION:DISPLAY
END:VALARM
END:VEVENT
END:VCALENDAR